BEGIN:VCALENDAR
VERSION:2.0
PRODID:-//CCPSA - ECPv6.15.18//NONSGML v1.0//EN
CALSCALE:GREGORIAN
METHOD:PUBLISH
X-WR-CALNAME:CCPSA
X-ORIGINAL-URL:https://ccpsa.chicago.gov
X-WR-CALDESC:Events for CCPSA
REFRESH-INTERVAL;VALUE=DURATION:PT1H
X-Robots-Tag:noindex
X-PUBLISHED-TTL:PT1H
BEGIN:VTIMEZONE
TZID:America/Chicago
BEGIN:DAYLIGHT
TZOFFSETFROM:-0600
TZOFFSETTO:-0500
TZNAME:CDT
DTSTART:20250309T080000
END:DAYLIGHT
BEGIN:STANDARD
TZOFFSETFROM:-0500
TZOFFSETTO:-0600
TZNAME:CST
DTSTART:20251102T070000
END:STANDARD
BEGIN:DAYLIGHT
TZOFFSETFROM:-0600
TZOFFSETTO:-0500
TZNAME:CDT
DTSTART:20260308T080000
END:DAYLIGHT
BEGIN:STANDARD
TZOFFSETFROM:-0500
TZOFFSETTO:-0600
TZNAME:CST
DTSTART:20261101T070000
END:STANDARD
BEGIN:DAYLIGHT
TZOFFSETFROM:-0600
TZOFFSETTO:-0500
TZNAME:CDT
DTSTART:20270314T080000
END:DAYLIGHT
BEGIN:STANDARD
TZOFFSETFROM:-0500
TZOFFSETTO:-0600
TZNAME:CST
DTSTART:20271107T070000
END:STANDARD
END:VTIMEZONE
BEGIN:VTIMEZONE
TZID:UTC
BEGIN:STANDARD
TZOFFSETFROM:+0000
TZOFFSETTO:+0000
TZNAME:UTC
DTSTART:20250101T000000
END:STANDARD
END:VTIMEZONE
BEGIN:VEVENT
DTSTART;TZID=America/Chicago:20260421T180000
DTEND;TZID=America/Chicago:20260421T190000
DTSTAMP:20260421T131449
CREATED:20260213T201239Z
LAST-MODIFIED:20260417T203651Z
UID:13171-1776794400-1776798000@ccpsa.chicago.gov
SUMMARY:10th District Council - April 21\, 2026
DESCRIPTION:
URL:https://ccpsa.chicago.gov/district-council/10th-district-council/event/10th-district-council-april-21-2026/
LOCATION:Firehouse Community Arts Center\, 2111 S. Hamlin Ave.\, Chicago\, IL\, 60623\, United States
END:VEVENT
BEGIN:VEVENT
DTSTART;TZID=UTC:20260421T183000
DTEND;TZID=UTC:20260421T200000
DTSTAMP:20260421T131449
CREATED:20260103T052044Z
LAST-MODIFIED:20260416T221931Z
UID:12612-1776796200-1776801600@ccpsa.chicago.gov
SUMMARY:12th District Council - April 21\, 2026\, CANCELLED
DESCRIPTION:
URL:https://ccpsa.chicago.gov/district-council/12th-district-council/event/12th-district-coucnil-april-21-2026/
LOCATION:Cancelled
END:VEVENT
BEGIN:VEVENT
DTSTART;TZID=UTC:20260422T063000
DTEND;TZID=UTC:20260422T200000
DTSTAMP:20260421T131449
CREATED:20251218T024829Z
LAST-MODIFIED:20260420T150535Z
UID:11984-1776839400-1776888000@ccpsa.chicago.gov
SUMMARY:19th District Council - April 22\, 2026
DESCRIPTION:
URL:https://ccpsa.chicago.gov/district-council/19th-district-council/event/19th-district-council-april-22-2026/
LOCATION:Athenaeum Center\, Athenaeum Center 2936 N Southport Ave\, Chicago\, IL\, 60657\, United States
END:VEVENT
BEGIN:VEVENT
DTSTART;TZID=America/Chicago:20260425T113000
DTEND;TZID=America/Chicago:20260425T143000
DTSTAMP:20260421T131449
CREATED:20260413T202638Z
LAST-MODIFIED:20260416T175726Z
UID:13897-1777116600-1777127400@ccpsa.chicago.gov
SUMMARY:4th District Council - April 25th\, 2026\, NEW RESCHEDULED DATE
DESCRIPTION:
URL:https://ccpsa.chicago.gov/district-council/4th-district-council/event/4th-district-council-april-25th-2026-new-rescheduled-date/
LOCATION:Trumbull Park\, 2400 E 105th St\, Chicago\, IL\, 60617\, United States
END:VEVENT
BEGIN:VEVENT
DTSTART;TZID=UTC:20260427T180000
DTEND;TZID=UTC:20260427T193000
DTSTAMP:20260421T131449
CREATED:20251231T213141Z
LAST-MODIFIED:20251231T213141Z
UID:12446-1777312800-1777318200@ccpsa.chicago.gov
SUMMARY:5th District Council - April 27\, 2026
DESCRIPTION:
URL:https://ccpsa.chicago.gov/district-council/5th-district-council/event/5th-district-council-april-27-2026/
LOCATION:TBD
END:VEVENT
BEGIN:VEVENT
DTSTART;TZID=America/Chicago:20260428T080000
DTEND;TZID=America/Chicago:20260428T090000
DTSTAMP:20260421T131449
CREATED:20260325T172625Z
LAST-MODIFIED:20260325T172706Z
UID:13680-1777363200-1777366800@ccpsa.chicago.gov
SUMMARY:19th District Council - April 28\, 2026\, Special Meeting
DESCRIPTION:
URL:https://ccpsa.chicago.gov/district-council/19th-district-council/event/19th-district-council-april-28-2026-special-meeting/
LOCATION:Emerald City Coffee\, 1224 W Wilson Ave\, Chicago\, IL\, 60640\, United States
END:VEVENT
BEGIN:VEVENT
DTSTART;TZID=America/Chicago:20260428T180000
DTEND;TZID=America/Chicago:20260428T190000
DTSTAMP:20260421T131449
CREATED:20260420T184653Z
LAST-MODIFIED:20260420T184653Z
UID:13964-1777399200-1777402800@ccpsa.chicago.gov
SUMMARY:12th District Council - April 28\, 2026\, Rescheduled from April 21
DESCRIPTION:
URL:https://ccpsa.chicago.gov/district-council/12th-district-council/event/12th-district-council-april-28-2026-rescheduled-from-april-21/
LOCATION:Dvorak Park\, 1119 W Cullerton St\, Chicago\, United States
END:VEVENT
BEGIN:VEVENT
DTSTART;TZID=UTC:20260428T180000
DTEND;TZID=UTC:20260428T193000
DTSTAMP:20260421T131449
CREATED:20260101T002959Z
LAST-MODIFIED:20260421T162855Z
UID:12559-1777399200-1777404600@ccpsa.chicago.gov
SUMMARY:18th District Council - April 28\, 2026
DESCRIPTION:
URL:https://ccpsa.chicago.gov/district-council/18th-district-council/event/18th-district-council-april-28-2026/
LOCATION:Anti-Cruelty Society\, 157 W Grand Ave\, Chicago\, 60654\, United States
END:VEVENT
BEGIN:VEVENT
DTSTART;TZID=UTC:20260429T183000
DTEND;TZID=UTC:20260429T200000
DTSTAMP:20260421T131449
CREATED:20251231T232559Z
LAST-MODIFIED:20260420T204510Z
UID:12501-1777487400-1777492800@ccpsa.chicago.gov
SUMMARY:9th District Council - April 29\, 2026
DESCRIPTION:
URL:https://ccpsa.chicago.gov/district-council/9th-district-council/event/9th-district-council-april-29-2026/
LOCATION:McKinley Park\, 2210 W Pershing Rd\, Chicago\, IL\, 60609\, United States
END:VEVENT
BEGIN:VEVENT
DTSTART;TZID=UTC:20260430T180000
DTEND;TZID=UTC:20260430T193000
DTSTAMP:20260421T131449
CREATED:20251230T050815Z
LAST-MODIFIED:20260324T224609Z
UID:12345-1777572000-1777577400@ccpsa.chicago.gov
SUMMARY:25th District Council - April 30\, 2026
DESCRIPTION:
URL:https://ccpsa.chicago.gov/district-council/25th-district-council/event/25th-district-council-april-30-2026/
LOCATION:North Pulaski Library\, 4300 W North Avenue\, Chicago\, IL\, 60639\, United States
END:VEVENT
BEGIN:VEVENT
DTSTART;TZID=America/Chicago:20260430T183000
DTEND;TZID=America/Chicago:20260430T203000
DTSTAMP:20260421T131449
CREATED:20260210T203425Z
LAST-MODIFIED:20260313T142109Z
UID:13119-1777573800-1777581000@ccpsa.chicago.gov
SUMMARY:Commission - April 30\, 2026
DESCRIPTION:
URL:https://ccpsa.chicago.gov/commission/event/commission-april-30-2026/
LOCATION:DePaul College Prep\, 3300 N. Campbell Ave.\, Chicago\, IL\, 60618\, United States
END:VEVENT
BEGIN:VEVENT
DTSTART;TZID=UTC:20260502T100000
DTEND;TZID=UTC:20260502T113000
DTSTAMP:20260421T131449
CREATED:20260123T221117Z
LAST-MODIFIED:20260317T164554Z
UID:12400-1777716000-1777721400@ccpsa.chicago.gov
SUMMARY:3rd District Council - May 2\, 2026
DESCRIPTION:
URL:https://ccpsa.chicago.gov/district-council/3rd-district-council/event/3rd-district-council-may-2-2026/
LOCATION:Jackson Park Fieldhouse\, 6401 S Stony Island Ave.\, Chicago\, IL\, 60637\, United States
END:VEVENT
BEGIN:VEVENT
DTSTART;TZID=UTC:20260502T130000
DTEND;TZID=UTC:20260502T143000
DTSTAMP:20260421T131449
CREATED:20251219T012604Z
LAST-MODIFIED:20260420T185440Z
UID:12068-1777726800-1777732200@ccpsa.chicago.gov
SUMMARY:14th District Council - May 2\, 2026
DESCRIPTION:
URL:https://ccpsa.chicago.gov/district-council/14th-district-council/event/14th-district-council-may-2-2026/
LOCATION:Logan Square Library\, 3030 W Fullerton\, Chicago\, IL\, 60647\, United States
END:VEVENT
BEGIN:VEVENT
DTSTART;TZID=UTC:20260509T130000
DTEND;TZID=UTC:20260509T143000
DTSTAMP:20260421T131449
CREATED:20251219T014418Z
LAST-MODIFIED:20260420T185117Z
UID:12086-1778331600-1778337000@ccpsa.chicago.gov
SUMMARY:17th District Council - May 9\, 2026
DESCRIPTION:
URL:https://ccpsa.chicago.gov/district-council/17th-district-council/event/17th-district-council-may-9-2026/
LOCATION:Independence Branch Library\, 4024 N Elston\, Independence Branch Library\, Chicago\, IL\, 60618\, United States
END:VEVENT
BEGIN:VEVENT
DTSTART;TZID=UTC:20260511T180000
DTEND;TZID=UTC:20260511T193000
DTSTAMP:20260421T131449
CREATED:20251230T044219Z
LAST-MODIFIED:20260115T224210Z
UID:12321-1778522400-1778527800@ccpsa.chicago.gov
SUMMARY:20th District Council - May 11\, 2026
DESCRIPTION:
URL:https://ccpsa.chicago.gov/district-council/20th-district-council/event/20th-district-council-may-11-2026/
LOCATION:Margate Park\, 4921 N Marine Drive\, Chicago\, IL\, 60640\, United States
END:VEVENT
BEGIN:VEVENT
DTSTART;TZID=UTC:20260512T180000
DTEND;TZID=UTC:20260512T193000
DTSTAMP:20260421T131449
CREATED:20251230T035350Z
LAST-MODIFIED:20260414T201206Z
UID:12262-1778608800-1778614200@ccpsa.chicago.gov
SUMMARY:1st District Council - May 12\, 2026
DESCRIPTION:
URL:https://ccpsa.chicago.gov/district-council/1st-district-council/event/1st-district-council-may-12-2026/
LOCATION:Williams Park Fieldhouse\, 2820 S State Street\, Chicago\, IL\, 60616\, United States
END:VEVENT
BEGIN:VEVENT
DTSTART;TZID=UTC:20260512T183000
DTEND;TZID=UTC:20260512T200000
DTSTAMP:20260421T131449
CREATED:20251219T021736Z
LAST-MODIFIED:20260417T153608Z
UID:12114-1778610600-1778616000@ccpsa.chicago.gov
SUMMARY:16th District Council - May 12\, 2026
DESCRIPTION:
URL:https://ccpsa.chicago.gov/district-council/16th-district-council/event/16th-district-council-may-12-2026/
LOCATION:16th District Police Department\, 5151 N Milwaukee Ave\, Chicago\, IL\, 60630\, United States
END:VEVENT
BEGIN:VEVENT
DTSTART;TZID=America/Chicago:20260513T180000
DTEND;TZID=America/Chicago:20260513T193000
DTSTAMP:20260421T131449
CREATED:20260407T164043Z
LAST-MODIFIED:20260407T164043Z
UID:13817-1778695200-1778700600@ccpsa.chicago.gov
SUMMARY:19th District Council - May 13\, 2026 - NEW RESCHEDULED DATE
DESCRIPTION:
URL:https://ccpsa.chicago.gov/district-council/19th-district-council/event/19th-district-council-may-13-2026-new-rescheduled-date/
LOCATION:TBD
END:VEVENT
BEGIN:VEVENT
DTSTART;TZID=UTC:20260513T183000
DTEND;TZID=UTC:20260513T183000
DTSTAMP:20260421T131449
CREATED:20251217T230508Z
LAST-MODIFIED:20260409T160914Z
UID:11964-1778697000-1778697000@ccpsa.chicago.gov
SUMMARY:22nd District Council - May 13\, 2026
DESCRIPTION:
URL:https://ccpsa.chicago.gov/district-council/22nd-district-council/event/22nd-district-council-may-13-2026-2/
LOCATION:Mt. Greenwood Park Field House\, 3721 W 111 th Street\, Chicago\, IL\, 60655\, United States
END:VEVENT
BEGIN:VEVENT
DTSTART;TZID=UTC:20260514T180000
DTEND;TZID=UTC:20260514T193000
DTSTAMP:20260421T131449
CREATED:20251219T035601Z
LAST-MODIFIED:20251219T035601Z
UID:12163-1778781600-1778787000@ccpsa.chicago.gov
SUMMARY:15th District Council -May 14\, 2026
DESCRIPTION:
URL:https://ccpsa.chicago.gov/district-council/15th-district-council/event/15th-district-council-may-14-2026/
LOCATION:TBD
END:VEVENT
BEGIN:VEVENT
DTSTART;TZID=UTC:20260517T150000
DTEND;TZID=UTC:20260517T163000
DTSTAMP:20260421T131449
CREATED:20251218T040255Z
LAST-MODIFIED:20251218T040315Z
UID:12016-1779030000-1779035400@ccpsa.chicago.gov
SUMMARY:24th District Council - May 17\, 2026
DESCRIPTION:
URL:https://ccpsa.chicago.gov/district-council/24th-district-council/event/24th-district-council-may-17-2026/
LOCATION:TBD
END:VEVENT
BEGIN:VEVENT
DTSTART;TZID=UTC:20260518T180000
DTEND;TZID=UTC:20260518T193000
DTSTAMP:20260421T131449
CREATED:20251231T234537Z
LAST-MODIFIED:20251231T235343Z
UID:12530-1779127200-1779132600@ccpsa.chicago.gov
SUMMARY:11th District Council - May 18\, 2026
DESCRIPTION:
URL:https://ccpsa.chicago.gov/district-council/11th-district-council/event/11th-district-council-may-18-2026/
LOCATION:Legler Regional Library\, 115 S Pulaski Rd.\, Chicago\, IL\, 60624\, United States
END:VEVENT
BEGIN:VEVENT
DTSTART;TZID=UTC:20260518T180000
DTEND;TZID=UTC:20260518T193000
DTSTAMP:20260421T131449
CREATED:20260108T044459Z
LAST-MODIFIED:20260108T044459Z
UID:12720-1779127200-1779132600@ccpsa.chicago.gov
SUMMARY:6th District Council - May 18\, 2026
DESCRIPTION:
URL:https://ccpsa.chicago.gov/district-council/6th-district-council/event/6th-district-council-may-18-2026/
LOCATION:TBD
END:VEVENT
BEGIN:VEVENT
DTSTART;TZID=America/Chicago:20260519T180000
DTEND;TZID=America/Chicago:20260519T190000
DTSTAMP:20260421T131449
CREATED:20260213T201327Z
LAST-MODIFIED:20260213T201327Z
UID:13173-1779213600-1779217200@ccpsa.chicago.gov
SUMMARY:10th District Council - May 19\, 2026
DESCRIPTION:
URL:https://ccpsa.chicago.gov/district-council/10th-district-council/event/10th-district-council-may-19-2026/
LOCATION:TBD
END:VEVENT
BEGIN:VEVENT
DTSTART;TZID=UTC:20260519T180000
DTEND;TZID=UTC:20260519T193000
DTSTAMP:20260421T131449
CREATED:20251231T205641Z
LAST-MODIFIED:20260410T200515Z
UID:12376-1779213600-1779219000@ccpsa.chicago.gov
SUMMARY:2nd District Council - May 19\, 2026
DESCRIPTION:
URL:https://ccpsa.chicago.gov/district-council/2nd-district-council/event/2nd-district-council-may-19-2026/
LOCATION:Washington Park Refectory\, 5531 S Russell Drive\, Chicago\, IL\, 60617\, United States
END:VEVENT
BEGIN:VEVENT
DTSTART;TZID=UTC:20260519T183000
DTEND;TZID=UTC:20260519T200000
DTSTAMP:20260421T131449
CREATED:20260103T052119Z
LAST-MODIFIED:20260103T052610Z
UID:12614-1779215400-1779220800@ccpsa.chicago.gov
SUMMARY:12th District Council - May 19\, 2026
DESCRIPTION:
URL:https://ccpsa.chicago.gov/district-council/12th-district-council/event/12th-district-coucnil-may-19-2026/
LOCATION:Dvorak Park\, 1119 W Cullerton St\, Chicago\, United States
END:VEVENT
BEGIN:VEVENT
DTSTART;TZID=UTC:20260520T180000
DTEND;TZID=UTC:20260520T193000
DTSTAMP:20260421T131449
CREATED:20251230T042747Z
LAST-MODIFIED:20251230T042753Z
UID:12293-1779300000-1779305400@ccpsa.chicago.gov
SUMMARY:7th District Council - May 20\, 2026
DESCRIPTION:
URL:https://ccpsa.chicago.gov/district-council/7th-district-council/event/7th-district-council-may-20-2026/
LOCATION:Lindblom Park\, 6054 S Damen Ave\, Chicago\, IL\, 60636\, United States
END:VEVENT
BEGIN:VEVENT
DTSTART;TZID=UTC:20260521T183000
DTEND;TZID=UTC:20260521T200000
DTSTAMP:20260421T131449
CREATED:20251231T214710Z
LAST-MODIFIED:20260217T193120Z
UID:12475-1779388200-1779393600@ccpsa.chicago.gov
SUMMARY:8th District Council - May 21\, 2026
DESCRIPTION:
URL:https://ccpsa.chicago.gov/district-council/8th-district-council/event/8th-district-council-may-21-2026/
LOCATION:Vittum Park\, 5010 W. 50th Street\, Chicago\, IL\, 60638\, United States
END:VEVENT
BEGIN:VEVENT
DTSTART;TZID=UTC:20260525T180000
DTEND;TZID=UTC:20260525T193000
DTSTAMP:20260421T131449
CREATED:20251231T213216Z
LAST-MODIFIED:20251231T213216Z
UID:12448-1779732000-1779737400@ccpsa.chicago.gov
SUMMARY:5th District Council - May 25\, 2026
DESCRIPTION:
URL:https://ccpsa.chicago.gov/district-council/5th-district-council/event/5th-district-council-may-25-2026/
LOCATION:TBD
END:VEVENT
BEGIN:VEVENT
DTSTART;TZID=UTC:20260526T121500
DTEND;TZID=UTC:20260526T134500
DTSTAMP:20260421T131449
CREATED:20260101T003036Z
LAST-MODIFIED:20260101T003036Z
UID:12561-1779797700-1779803100@ccpsa.chicago.gov
SUMMARY:18th District Council - May 26\, 2026
DESCRIPTION:
URL:https://ccpsa.chicago.gov/district-council/18th-district-council/event/18th-district-council-may-26-2026/
LOCATION:Near North Library\, 310 N DIvision St\, Chicago\, IL\, 60610\, United States
END:VEVENT
END:VCALENDAR