BEGIN:VCALENDAR
VERSION:2.0
PRODID:-//CCPSA - ECPv6.15.18//NONSGML v1.0//EN
CALSCALE:GREGORIAN
METHOD:PUBLISH
X-WR-CALNAME:CCPSA
X-ORIGINAL-URL:https://ccpsa.chicago.gov
X-WR-CALDESC:Events for CCPSA
REFRESH-INTERVAL;VALUE=DURATION:PT1H
X-Robots-Tag:noindex
X-PUBLISHED-TTL:PT1H
BEGIN:VTIMEZONE
TZID:UTC
BEGIN:STANDARD
TZOFFSETFROM:+0000
TZOFFSETTO:+0000
TZNAME:UTC
DTSTART:20250101T000000
END:STANDARD
END:VTIMEZONE
BEGIN:VEVENT
DTSTART;TZID=UTC:20261021T180000
DTEND;TZID=UTC:20261021T193000
DTSTAMP:20260422T223057
CREATED:20251230T043435Z
LAST-MODIFIED:20251230T043435Z
UID:12310-1792605600-1792611000@ccpsa.chicago.gov
SUMMARY:7th District Council - October 21\, 2026
DESCRIPTION:
URL:https://ccpsa.chicago.gov/district-council/7th-district-council/event/7th-district-council-october-21-2026/
LOCATION:Hamilton Park\, 513 W 72nd Street\, Hamilton Park\, Chicago\, IL\, 60621\, United States
END:VEVENT
END:VCALENDAR