BEGIN:VCALENDAR
VERSION:2.0
PRODID:-//CCPSA - ECPv6.15.18//NONSGML v1.0//EN
CALSCALE:GREGORIAN
METHOD:PUBLISH
X-WR-CALNAME:CCPSA
X-ORIGINAL-URL:https://ccpsa.chicago.gov
X-WR-CALDESC:Events for CCPSA
REFRESH-INTERVAL;VALUE=DURATION:PT1H
X-Robots-Tag:noindex
X-PUBLISHED-TTL:PT1H
BEGIN:VTIMEZONE
TZID:UTC
BEGIN:STANDARD
TZOFFSETFROM:+0000
TZOFFSETTO:+0000
TZNAME:UTC
DTSTART:20250101T000000
END:STANDARD
END:VTIMEZONE
BEGIN:VEVENT
DTSTART;TZID=UTC:20261118T180000
DTEND;TZID=UTC:20261118T193000
DTSTAMP:20260423T015620
CREATED:20251230T043155Z
LAST-MODIFIED:20251230T043155Z
UID:12303-1795024800-1795030200@ccpsa.chicago.gov
SUMMARY:7th District Council - November 18\, 2026
DESCRIPTION:
URL:https://ccpsa.chicago.gov/district-council/7th-district-council/event/7th-district-council-november-18-2026/
LOCATION:Lindblom Park\, 6054 S Damen Ave\, Chicago\, IL\, 60636\, United States
END:VEVENT
END:VCALENDAR