BEGIN:VCALENDAR
VERSION:2.0
PRODID:-//CCPSA - ECPv6.15.18//NONSGML v1.0//EN
CALSCALE:GREGORIAN
METHOD:PUBLISH
X-WR-CALNAME:CCPSA
X-ORIGINAL-URL:https://ccpsa.chicago.gov
X-WR-CALDESC:Events for CCPSA
REFRESH-INTERVAL;VALUE=DURATION:PT1H
X-Robots-Tag:noindex
X-PUBLISHED-TTL:PT1H
BEGIN:VTIMEZONE
TZID:UTC
BEGIN:STANDARD
TZOFFSETFROM:+0000
TZOFFSETTO:+0000
TZNAME:UTC
DTSTART:20250101T000000
END:STANDARD
END:VTIMEZONE
BEGIN:VEVENT
DTSTART;TZID=UTC:20261205T100000
DTEND;TZID=UTC:20261205T113000
DTSTAMP:20260422T223107
CREATED:20251231T211530Z
LAST-MODIFIED:20260317T165339Z
UID:12414-1796464800-1796470200@ccpsa.chicago.gov
SUMMARY:3rd District Council - \,December 5\, 2026
DESCRIPTION:
URL:https://ccpsa.chicago.gov/district-council/3rd-district-council/event/3rd-district-council-december-12-2026/
LOCATION:Jackson Park Fieldhouse\, 6401 S Stony Island Ave.\, Chicago\, IL\, 60637\, United States
END:VEVENT
END:VCALENDAR