BEGIN:VCALENDAR
VERSION:2.0
PRODID:-//CCPSA - ECPv6.15.18//NONSGML v1.0//EN
CALSCALE:GREGORIAN
METHOD:PUBLISH
X-WR-CALNAME:CCPSA
X-ORIGINAL-URL:https://ccpsa.chicago.gov
X-WR-CALDESC:Events for CCPSA
REFRESH-INTERVAL;VALUE=DURATION:PT1H
X-Robots-Tag:noindex
X-PUBLISHED-TTL:PT1H
BEGIN:VTIMEZONE
TZID:UTC
BEGIN:STANDARD
TZOFFSETFROM:+0000
TZOFFSETTO:+0000
TZNAME:UTC
DTSTART:20250101T000000
END:STANDARD
END:VTIMEZONE
BEGIN:VEVENT
DTSTART;TZID=UTC:20260818T180000
DTEND;TZID=UTC:20260818T190000
DTSTAMP:20260423T000533
CREATED:20251231T205900Z
LAST-MODIFIED:20260410T200722Z
UID:12382-1787076000-1787079600@ccpsa.chicago.gov
SUMMARY:2nd District Council - August 18\, 2026
DESCRIPTION:
URL:https://ccpsa.chicago.gov/district-council/2nd-district-council/event/2nd-district-council-august-18-2026/
LOCATION:Washington Park Refectory\, 5531 S Russell Drive\, Chicago\, IL\, 60617\, United States
END:VEVENT
END:VCALENDAR