BEGIN:VCALENDAR
VERSION:2.0
PRODID:-//CCPSA - ECPv6.15.18//NONSGML v1.0//EN
CALSCALE:GREGORIAN
METHOD:PUBLISH
X-WR-CALNAME:CCPSA
X-ORIGINAL-URL:https://ccpsa.chicago.gov
X-WR-CALDESC:Events for CCPSA
REFRESH-INTERVAL;VALUE=DURATION:PT1H
X-Robots-Tag:noindex
X-PUBLISHED-TTL:PT1H
BEGIN:VTIMEZONE
TZID:UTC
BEGIN:STANDARD
TZOFFSETFROM:+0000
TZOFFSETTO:+0000
TZNAME:UTC
DTSTART:20250101T000000
END:STANDARD
END:VTIMEZONE
BEGIN:VEVENT
DTSTART;TZID=UTC:20260528T180000
DTEND;TZID=UTC:20260528T193000
DTSTAMP:20260422T223139
CREATED:20251230T050930Z
LAST-MODIFIED:20251230T050930Z
UID:12347-1779991200-1779996600@ccpsa.chicago.gov
SUMMARY:25th District Council - May 28\, 2026
DESCRIPTION:
URL:https://ccpsa.chicago.gov/district-council/25th-district-council/event/25th-district-council-may-28-2026/
LOCATION:Mozart Park\, 2036 N Avers\, Chicago\, IL\, 60647\, United States
END:VEVENT
END:VCALENDAR