BEGIN:VCALENDAR
VERSION:2.0
PRODID:-//CCPSA - ECPv6.15.18//NONSGML v1.0//EN
CALSCALE:GREGORIAN
METHOD:PUBLISH
X-WR-CALNAME:CCPSA
X-ORIGINAL-URL:https://ccpsa.chicago.gov
X-WR-CALDESC:Events for CCPSA
REFRESH-INTERVAL;VALUE=DURATION:PT1H
X-Robots-Tag:noindex
X-PUBLISHED-TTL:PT1H
BEGIN:VTIMEZONE
TZID:UTC
BEGIN:STANDARD
TZOFFSETFROM:+0000
TZOFFSETTO:+0000
TZNAME:UTC
DTSTART:20250101T000000
END:STANDARD
END:VTIMEZONE
BEGIN:VEVENT
DTSTART;TZID=UTC:20260827T180000
DTEND;TZID=UTC:20260827T193000
DTSTAMP:20260423T015558
CREATED:20251230T051132Z
LAST-MODIFIED:20251230T051132Z
UID:12355-1787853600-1787859000@ccpsa.chicago.gov
SUMMARY:25th District Council - August 27\, 2026
DESCRIPTION:
URL:https://ccpsa.chicago.gov/district-council/25th-district-council/event/25th-district-council-august-27-2026/
LOCATION:Lafollette Park\, 1333 N Laramie Ave\, Chicago\, IL\, 60651\, United States
END:VEVENT
END:VCALENDAR