BEGIN:VCALENDAR
VERSION:2.0
PRODID:-//CCPSA - ECPv6.15.18//NONSGML v1.0//EN
CALSCALE:GREGORIAN
METHOD:PUBLISH
X-WR-CALNAME:CCPSA
X-ORIGINAL-URL:https://ccpsa.chicago.gov
X-WR-CALDESC:Events for CCPSA
REFRESH-INTERVAL;VALUE=DURATION:PT1H
X-Robots-Tag:noindex
X-PUBLISHED-TTL:PT1H
BEGIN:VTIMEZONE
TZID:UTC
BEGIN:STANDARD
TZOFFSETFROM:+0000
TZOFFSETTO:+0000
TZNAME:UTC
DTSTART:20250101T000000
END:STANDARD
END:VTIMEZONE
BEGIN:VEVENT
DTSTART;TZID=UTC:20261111T183000
DTEND;TZID=UTC:20261111T183000
DTSTAMP:20260423T000658
CREATED:20251217T225254Z
LAST-MODIFIED:20251218T031627Z
UID:11960-1794421800-1794421800@ccpsa.chicago.gov
SUMMARY:22nd District Council - November 11\, 2026
DESCRIPTION:
URL:https://ccpsa.chicago.gov/district-council/22nd-district-council/event/22nd-district-council-november-11-2026/
LOCATION:Mt. Greenwood Park Field House\, 3721 W 111 th Street\, Chicago\, IL\, 60655\, United States
END:VEVENT
END:VCALENDAR