BEGIN:VCALENDAR
VERSION:2.0
PRODID:-//CCPSA - ECPv6.15.18//NONSGML v1.0//EN
CALSCALE:GREGORIAN
METHOD:PUBLISH
X-WR-CALNAME:CCPSA
X-ORIGINAL-URL:https://ccpsa.chicago.gov
X-WR-CALDESC:Events for CCPSA
REFRESH-INTERVAL;VALUE=DURATION:PT1H
X-Robots-Tag:noindex
X-PUBLISHED-TTL:PT1H
BEGIN:VTIMEZONE
TZID:UTC
BEGIN:STANDARD
TZOFFSETFROM:+0000
TZOFFSETTO:+0000
TZNAME:UTC
DTSTART:20250101T000000
END:STANDARD
END:VTIMEZONE
BEGIN:VEVENT
DTSTART;TZID=UTC:20260610T183000
DTEND;TZID=UTC:20260610T200000
DTSTAMP:20260423T000539
CREATED:20251218T022958Z
LAST-MODIFIED:20251218T032020Z
UID:11971-1781116200-1781121600@ccpsa.chicago.gov
SUMMARY:22nd District Council - June 10\, 2026
DESCRIPTION:
URL:https://ccpsa.chicago.gov/district-council/22nd-district-council/event/22nd-district-council-june-10-2026/
LOCATION:Morgan Park Presbyterian Church\, 2017 W 110th Place\, Chicago\, IL\, 60643\, United States
END:VEVENT
END:VCALENDAR