BEGIN:VCALENDAR
VERSION:2.0
PRODID:-//CCPSA - ECPv6.15.18//NONSGML v1.0//EN
CALSCALE:GREGORIAN
METHOD:PUBLISH
X-WR-CALNAME:CCPSA
X-ORIGINAL-URL:https://ccpsa.chicago.gov
X-WR-CALDESC:Events for CCPSA
REFRESH-INTERVAL;VALUE=DURATION:PT1H
X-Robots-Tag:noindex
X-PUBLISHED-TTL:PT1H
BEGIN:VTIMEZONE
TZID:UTC
BEGIN:STANDARD
TZOFFSETFROM:+0000
TZOFFSETTO:+0000
TZNAME:UTC
DTSTART:20250101T000000
END:STANDARD
END:VTIMEZONE
BEGIN:VEVENT
DTSTART;TZID=UTC:20260713T180000
DTEND;TZID=UTC:20260713T193000
DTSTAMP:20260422T223241
CREATED:20251230T044343Z
LAST-MODIFIED:20260115T224331Z
UID:12325-1783965600-1783971000@ccpsa.chicago.gov
SUMMARY:20th District Council - July 13\, 2026
DESCRIPTION:
URL:https://ccpsa.chicago.gov/district-council/20th-district-council/event/20th-district-council-july-13-2026/
LOCATION:Margate Park\, 4921 N Marine Drive\, Chicago\, IL\, 60640\, United States
END:VEVENT
END:VCALENDAR