BEGIN:VCALENDAR
VERSION:2.0
PRODID:-//CCPSA - ECPv6.15.18//NONSGML v1.0//EN
CALSCALE:GREGORIAN
METHOD:PUBLISH
X-WR-CALNAME:CCPSA
X-ORIGINAL-URL:https://ccpsa.chicago.gov
X-WR-CALDESC:Events for CCPSA
REFRESH-INTERVAL;VALUE=DURATION:PT1H
X-Robots-Tag:noindex
X-PUBLISHED-TTL:PT1H
BEGIN:VTIMEZONE
TZID:UTC
BEGIN:STANDARD
TZOFFSETFROM:+0000
TZOFFSETTO:+0000
TZNAME:UTC
DTSTART:20250101T000000
END:STANDARD
END:VTIMEZONE
BEGIN:VEVENT
DTSTART;TZID=UTC:20261110T180000
DTEND;TZID=UTC:20261110T193000
DTSTAMP:20260422T223322
CREATED:20251230T041154Z
LAST-MODIFIED:20251230T041157Z
UID:12278-1794333600-1794339000@ccpsa.chicago.gov
SUMMARY:1st District Council - November 10\, 2026
DESCRIPTION:
URL:https://ccpsa.chicago.gov/district-council/1st-district-council/event/1st-district-council-november-10-2026/
LOCATION:Chicago Women’s Park & Garden\, 1801 S Indiana Ave\, Chicago\, 60616\, United States
END:VEVENT
END:VCALENDAR