BEGIN:VCALENDAR
VERSION:2.0
PRODID:-//CCPSA - ECPv6.15.18//NONSGML v1.0//EN
CALSCALE:GREGORIAN
METHOD:PUBLISH
X-WR-CALNAME:CCPSA
X-ORIGINAL-URL:https://ccpsa.chicago.gov
X-WR-CALDESC:Events for CCPSA
REFRESH-INTERVAL;VALUE=DURATION:PT1H
X-Robots-Tag:noindex
X-PUBLISHED-TTL:PT1H
BEGIN:VTIMEZONE
TZID:UTC
BEGIN:STANDARD
TZOFFSETFROM:+0000
TZOFFSETTO:+0000
TZNAME:UTC
DTSTART:20250101T000000
END:STANDARD
END:VTIMEZONE
BEGIN:VEVENT
DTSTART;TZID=UTC:20260729T180000
DTEND;TZID=UTC:20260729T200000
DTSTAMP:20260422T223240
CREATED:20251218T030152Z
LAST-MODIFIED:20251218T030152Z
UID:11990-1785348000-1785355200@ccpsa.chicago.gov
SUMMARY:19th District Council - July 29\, 2026
DESCRIPTION:
URL:https://ccpsa.chicago.gov/district-council/19th-district-council/event/19th-district-council-july-29-2026/
LOCATION:Chicagoland Community Church\, 836 W Aldine Ave\, Chicago\, IL\, 60657\, United States
END:VEVENT
END:VCALENDAR